BEGIN:VCALENDAR
VERSION:2.0
PRODID:-//Club Mini Cooper - ECPv6.0.3.1//NONSGML v1.0//EN
CALSCALE:GREGORIAN
METHOD:PUBLISH
X-WR-CALNAME:Club Mini Cooper
X-ORIGINAL-URL:http://www.clubminicooper.com/?lang=es
X-WR-CALDESC:Eventos para Club Mini Cooper
REFRESH-INTERVAL;VALUE=DURATION:PT1H
X-Robots-Tag:noindex
X-PUBLISHED-TTL:PT1H
BEGIN:VTIMEZONE
TZID:Europe/Madrid
BEGIN:DAYLIGHT
TZOFFSETFROM:+0100
TZOFFSETTO:+0200
TZNAME:CEST
DTSTART:20260329T010000
END:DAYLIGHT
BEGIN:STANDARD
TZOFFSETFROM:+0200
TZOFFSETTO:+0100
TZNAME:CET
DTSTART:20261025T010000
END:STANDARD
END:VTIMEZONE
BEGIN:VEVENT
DTSTART;TZID=Europe/Madrid:20260516T093000
DTEND;TZID=Europe/Madrid:20260516T170000
DTSTAMP:20260422T134435
CREATED:20260420T091036Z
LAST-MODIFIED:20260420T104118Z
UID:24716-1778923800-1778950800@www.clubminicooper.com
SUMMARY:PRÓXIMA CITA: PERAFITA
DESCRIPTION:PRÓXIMA CITA: PERAFITA\nSábado\, 16 de mayo\n \n\nPrograma e itinerario: \n9:30h en el punto de encuentro: Bar L’ALLAU en el centro comercial Sant Jordi\, C17 km. 27. L’Ametlla del Vallés.  Salida en ruta a las 10:00h: \n11:30h Primera parada: Restaurante Cal Trumfo\, calle Oest\, 2 la Torre d’Oristà. Salida a las 12:15h. \n12:50h: Llegada a Perafita. Aparcar y recoger una coca por cada coche (gentileza del Club) en el Hostal del Forn\, plaza Major 17. Salida a las 13:35h. \n14:15h: Llegada a Olost. Comida en la Fonda Sala (Plaza Major\, 17 Olost). \nFin de la salida y vuelta libre a los lugares de origen \n \n\nPrecios: \nUn coche y dos personas 67€ \nUn coche y una persona 39€ \n \n\nInscripciones: \nFecha límite el 10 de mayo\, por ingreso en la cuenta del Club Mini Cooper: \nES09 2100 3363 1122 0008 6897 \nIndicando: Perafita\, número de asistentes y nombre de los mismos.
URL:http://www.clubminicooper.com/event/propera-fita-peraafia/?lang=es
LOCATION:PRÓXIMA CITA: PERAFITA
ATTACH;FMTTYPE=image/jpeg:http://www.clubminicooper.com/wp-content/uploads/2026/04/flyer-Pedrafita_page-0001.jpg
END:VEVENT
END:VCALENDAR