BEGIN:VCALENDAR
VERSION:2.0
PRODID:-//Club Mini Cooper - ECPv6.0.3.1//NONSGML v1.0//EN
CALSCALE:GREGORIAN
METHOD:PUBLISH
X-ORIGINAL-URL:http://www.clubminicooper.com
X-WR-CALDESC:Esdeveniments per Club Mini Cooper
REFRESH-INTERVAL;VALUE=DURATION:PT1H
X-Robots-Tag:noindex
X-PUBLISHED-TTL:PT1H
BEGIN:VTIMEZONE
TZID:Europe/Madrid
BEGIN:DAYLIGHT
TZOFFSETFROM:+0100
TZOFFSETTO:+0200
TZNAME:CEST
DTSTART:20260329T010000
END:DAYLIGHT
BEGIN:STANDARD
TZOFFSETFROM:+0200
TZOFFSETTO:+0100
TZNAME:CET
DTSTART:20261025T010000
END:STANDARD
END:VTIMEZONE
BEGIN:VEVENT
DTSTART;TZID=Europe/Madrid:20260407T080000
DTEND;TZID=Europe/Madrid:20260407T170000
DTSTAMP:20260422T185532
CREATED:20260407T085924Z
LAST-MODIFIED:20260407T101209Z
UID:24481-1775548800-1775581200@www.clubminicooper.com
SUMMARY:Minis a la navarra
DESCRIPTION:Minis a la navarra\n\nMarxem a terres navarreses els dies 19-20-21 de juny de 2026. Tornarem als orígens dels nostres petits Minis fabricats a Espanya\, visitarem l’antiga fàbrica AUTHI (Automòviles de Turismos Hispano Ingleses) de Landaben\, així com el Palau reial d’Olite entre d’altres activitats.  \n \n\nPROGRAMA\nDivendres dia 19 de juny\n\n            15:30h a 20:30h. Check-in a l’Hotel Blanca de Navarra 4*(Av. de Pio XII 43\, 31008 Pamplona. Telf. 948 171 010) Pàrquing cobert\, reservat al mateix hotel. \n            Tarda lliure per visitar Pamplona.\n            21h.  Sopar a l’hotel.\n         \nDissabte 20 de juny\n\n            08h. Esmorzar a l’hotel.\n            09:30h.  Sortida direcció Landaben.\n            10h.  Visita a la fábrica AUTHI (actualment VW) a Landaben (inicialment farem un audiovisual\, després visitarem el museu de vehicles fabricats a les instal·lacions des del seu origen i finalment farem unes voltes al seu circuit de proves).\n            12:30h. Ruta direcció Olite.\n            14h. Dinar al restaurant El Prebostea Olite.  \n            17h.  Visita guiada al palau reial d’Olite.\n            21h. Sopar a l’hotel.\n         \nDiumenge 21 de juny\n\n            08h.  Esmorzar a l’hotel.\n            09h.  Check-out. \n            09:30h. Sortida direcció Osca. \n            12:30h. Arribada a les Bodegues Idrias on farem una visita guiada amb tast.\n            14h.  Dinar a la bodega Idrias i fi de trobada. (Tornada lliure).\n         \n \n\n\n            Preu Mini + 2 adults: 650€. 1er Ingrés de 210€ fins el 9/04/2026\, 2on ingrés de 215€ fins el 9/05/2026 i l’últim ingrés de 225€ fins el 9/06/2026.\n            Preu Mini + 1 adult: 390€ 1er Ingrés de 125€ fins el 9/04/2026\, 2on ingrés de 130€ fins el 9/05/2026 i l’últim ingrés de 135€ fins el 9/06/2026. Places Limitades.\n         \n \n\nInscripcions per ingrés al compte del Club: ES09 2100 3363 1122 0008 6897 indicant Landaben + Nom i nombre de personas.
URL:http://www.clubminicooper.com/event/minis-a-la-navarra/
LOCATION:PROPERA FITA: PERAFITA
ATTACH;FMTTYPE=image/jpeg:http://www.clubminicooper.com/wp-content/uploads/2026/04/Cartell-LANDABEN_page-0001.jpg
END:VEVENT
END:VCALENDAR